BEGIN:VCALENDAR
VERSION:2.0
PRODID:-//Euerfeld - ECPv6.15.17//NONSGML v1.0//EN
CALSCALE:GREGORIAN
METHOD:PUBLISH
X-ORIGINAL-URL:https://euerfeld.de
X-WR-CALDESC:Veranstaltungen für Euerfeld
REFRESH-INTERVAL;VALUE=DURATION:PT1H
X-Robots-Tag:noindex
X-PUBLISHED-TTL:PT1H
BEGIN:VTIMEZONE
TZID:Europe/Berlin
BEGIN:DAYLIGHT
TZOFFSETFROM:+0100
TZOFFSETTO:+0200
TZNAME:CEST
DTSTART:20230326T010000
END:DAYLIGHT
BEGIN:STANDARD
TZOFFSETFROM:+0200
TZOFFSETTO:+0100
TZNAME:CET
DTSTART:20231029T010000
END:STANDARD
BEGIN:DAYLIGHT
TZOFFSETFROM:+0100
TZOFFSETTO:+0200
TZNAME:CEST
DTSTART:20240331T010000
END:DAYLIGHT
BEGIN:STANDARD
TZOFFSETFROM:+0200
TZOFFSETTO:+0100
TZNAME:CET
DTSTART:20241027T010000
END:STANDARD
BEGIN:DAYLIGHT
TZOFFSETFROM:+0100
TZOFFSETTO:+0200
TZNAME:CEST
DTSTART:20250330T010000
END:DAYLIGHT
BEGIN:STANDARD
TZOFFSETFROM:+0200
TZOFFSETTO:+0100
TZNAME:CET
DTSTART:20251026T010000
END:STANDARD
END:VTIMEZONE
BEGIN:VEVENT
DTSTART;TZID=Europe/Berlin:20240707T103000
DTEND;TZID=Europe/Berlin:20240707T120000
DTSTAMP:20260421T072342
CREATED:20240130T180310Z
LAST-MODIFIED:20240406T193038Z
UID:10000101-1720348200-1720353600@euerfeld.de
SUMMARY:Jubilaregottesdienst
DESCRIPTION:
URL:https://euerfeld.de/event/jubilaregottesdienst/
LOCATION:Bruder-Klaus-Kapelle\, Baygasse 10\, 97337 Dettelbach\, Deutschland (https://bruder-klaus-kapelle.euerfeld.de)
END:VEVENT
BEGIN:VEVENT
DTSTART;TZID=Europe/Berlin:20240719T140000
DTEND;TZID=Europe/Berlin:20240719T180000
DTSTAMP:20260421T072342
CREATED:20240130T180553Z
LAST-MODIFIED:20240130T180553Z
UID:10000104-1721397600-1721412000@euerfeld.de
SUMMARY:Seniorentreff
DESCRIPTION:
URL:https://euerfeld.de/event/seniorentreff-3/
LOCATION:Sportheim Euerfeld\, Kirchstraße 16\, 97337 Dettelbach
END:VEVENT
BEGIN:VEVENT
DTSTART;VALUE=DATE:20240721
DTEND;VALUE=DATE:20240722
DTSTAMP:20260421T072342
CREATED:20240130T180640Z
LAST-MODIFIED:20240130T180640Z
UID:10000105-1721520000-1721606399@euerfeld.de
SUMMARY:Sommerfest FCE
DESCRIPTION:
URL:https://euerfeld.de/event/sommerfest-fce/
LOCATION:Sportheim Euerfeld\, Kirchstraße 16\, 97337 Dettelbach
END:VEVENT
BEGIN:VEVENT
DTSTART;TZID=Europe/Berlin:20240728T183000
DTEND;TZID=Europe/Berlin:20240728T193000
DTSTAMP:20260421T072342
CREATED:20240726T125511Z
LAST-MODIFIED:20240726T125511Z
UID:10000122-1722191400-1722195000@euerfeld.de
SUMMARY:Auszeit für die Seele
DESCRIPTION:Gbete\, Lieder\, Bibeltexte und ein Märchen: Herzliche Einladung zur „Auszeit für die Seele“ am Sonntag\, 28.Juli\, um 18:30 Uhr an die Bruder-Klaus-Kapelle unter dem Motto: “Komm zur Quelle an die Kapelle“.  \n \n 
URL:https://euerfeld.de/event/auszeit-fuer-die-seele/
END:VEVENT
END:VCALENDAR