BEGIN:VCALENDAR
VERSION:2.0
PRODID:-//Euerfeld - ECPv6.15.17//NONSGML v1.0//EN
CALSCALE:GREGORIAN
METHOD:PUBLISH
X-ORIGINAL-URL:https://euerfeld.de
X-WR-CALDESC:Veranstaltungen für Euerfeld
REFRESH-INTERVAL;VALUE=DURATION:PT1H
X-Robots-Tag:noindex
X-PUBLISHED-TTL:PT1H
BEGIN:VTIMEZONE
TZID:Europe/Berlin
BEGIN:DAYLIGHT
TZOFFSETFROM:+0100
TZOFFSETTO:+0200
TZNAME:CEST
DTSTART:20230326T010000
END:DAYLIGHT
BEGIN:STANDARD
TZOFFSETFROM:+0200
TZOFFSETTO:+0100
TZNAME:CET
DTSTART:20231029T010000
END:STANDARD
BEGIN:DAYLIGHT
TZOFFSETFROM:+0100
TZOFFSETTO:+0200
TZNAME:CEST
DTSTART:20240331T010000
END:DAYLIGHT
BEGIN:STANDARD
TZOFFSETFROM:+0200
TZOFFSETTO:+0100
TZNAME:CET
DTSTART:20241027T010000
END:STANDARD
BEGIN:DAYLIGHT
TZOFFSETFROM:+0100
TZOFFSETTO:+0200
TZNAME:CEST
DTSTART:20250330T010000
END:DAYLIGHT
BEGIN:STANDARD
TZOFFSETFROM:+0200
TZOFFSETTO:+0100
TZNAME:CET
DTSTART:20251026T010000
END:STANDARD
END:VTIMEZONE
BEGIN:VEVENT
DTSTART;TZID=Europe/Berlin:20240501T100000
DTEND;TZID=Europe/Berlin:20240501T110000
DTSTAMP:20260421T095456
CREATED:20240130T175050Z
LAST-MODIFIED:20240130T175050Z
UID:10000094-1714557600-1714561200@euerfeld.de
SUMMARY:Maiandacht
DESCRIPTION:
URL:https://euerfeld.de/event/maiandacht/
LOCATION:Bruder-Klaus-Kapelle\, Baygasse 10\, 97337 Dettelbach\, Deutschland (https://bruder-klaus-kapelle.euerfeld.de)
END:VEVENT
BEGIN:VEVENT
DTSTART;TZID=Europe/Berlin:20240505T081500
DTEND;TZID=Europe/Berlin:20240505T100000
DTSTAMP:20260421T095456
CREATED:20240130T175528Z
LAST-MODIFIED:20240131T130408Z
UID:10000095-1714896900-1714903200@euerfeld.de
SUMMARY:Sternwallfahrt nach Dettelbach
DESCRIPTION:Um 10:00 Uhr ist der Gottesdienst in der Wallfahrtskirche.
URL:https://euerfeld.de/event/wallfahrt-nach-dettelbach/
LOCATION:Treppenstufen zur Kirche\, Hauptstraße 20\, Euerfeld\, 97337
END:VEVENT
BEGIN:VEVENT
DTSTART;TZID=Europe/Berlin:20240508T190000
DTEND;TZID=Europe/Berlin:20240508T220000
DTSTAMP:20260421T095456
CREATED:20240130T175630Z
LAST-MODIFIED:20240130T175630Z
UID:10000096-1715194800-1715205600@euerfeld.de
SUMMARY:Generalversammlung Feuerwehr
DESCRIPTION:
URL:https://euerfeld.de/event/generalversammlung-feuerwehr/
LOCATION:Feuerwerhaus\, Kirchstraße 2a\, Euerfeld\, 97337
END:VEVENT
BEGIN:VEVENT
DTSTART;VALUE=DATE:20240509
DTEND;VALUE=DATE:20240510
DTSTAMP:20260421T095456
CREATED:20240130T175708Z
LAST-MODIFIED:20240130T175708Z
UID:10000097-1715212800-1715299199@euerfeld.de
SUMMARY:150-Jahre Feuerwehr Euerfeld
DESCRIPTION:
URL:https://euerfeld.de/event/150-jahre-feuerwehr-euerfeld/
LOCATION:Feuerwerhaus\, Kirchstraße 2a\, Euerfeld\, 97337
END:VEVENT
BEGIN:VEVENT
DTSTART;TZID=Europe/Berlin:20240516T140000
DTEND;TZID=Europe/Berlin:20240516T170000
DTSTAMP:20260421T095456
CREATED:20240130T175830Z
LAST-MODIFIED:20240404T112827Z
UID:10000098-1715868000-1715878800@euerfeld.de
SUMMARY:Maiandacht
DESCRIPTION:
URL:https://euerfeld.de/event/maiandacht-2/
LOCATION:Pfarrkirche\, Kirchstraße 21\, 97337 Dettelbach\, Deutschland
END:VEVENT
END:VCALENDAR